BEGIN:VCALENDAR
VERSION:2.0
PRODID:-//Hellenic League - Proudly Sponsored by uhlsport - &quot;Where every game matters&quot; - ECPv6.15.20//NONSGML v1.0//EN
CALSCALE:GREGORIAN
METHOD:PUBLISH
X-ORIGINAL-URL:https://hellenicleague.co.uk
X-WR-CALDESC:Events for Hellenic League - Proudly Sponsored by uhlsport - &quot;Where every game matters&quot;
REFRESH-INTERVAL;VALUE=DURATION:PT1H
X-Robots-Tag:noindex
X-PUBLISHED-TTL:PT1H
BEGIN:VTIMEZONE
TZID:UTC
BEGIN:STANDARD
TZOFFSETFROM:+0000
TZOFFSETTO:+0000
TZNAME:UTC
DTSTART:20240101T000000
END:STANDARD
END:VTIMEZONE
BEGIN:VEVENT
DTSTART;TZID=UTC:20250429T000000
DTEND;TZID=UTC:20250429T235959
DTSTAMP:20260422T115900
CREATED:20250428T174003Z
LAST-MODIFIED:20250428T174003Z
UID:437-1745884800-1745971199@hellenicleague.co.uk
SUMMARY:Div 2 Play Off Final
DESCRIPTION:Swindon Supermarine Dev vs Headington Amateurs \nKO 1945 \nSwindon Supermarine \nReferee: Craig Davenport \nAssistant Referees: Graham Pugh & Darren McMillian
URL:https://hellenicleague.co.uk/event/div-2-play-off-final/
LOCATION:Swindone Supermarine
CATEGORIES:Final
END:VEVENT
END:VCALENDAR